BEGIN:VCALENDAR
VERSION:2.0
PRODID:-//www.kentuckycasanetwork.org//NONSGML kigkonsult.se iCalcreator 2.
 30.10//
CALSCALE:GREGORIAN
METHOD:PUBLISH
UID:eb74b2bd-04af-4332-8278-f531563ff32e
X-WR-CALDESC:This training\, facilitated by Pastor Edward Palmer\, will hel
 p participants identify\, manage\, and mitigate personal biases as well as
  consider the presence of structural biases within an agency’s policies an
 d practices. As participants learn to identify\, address\, and minimize th
 e impact of individual bias as well as systemic bias\, the desired outcome
  is data will eventually be reflective of the agency’s mission. Note that 
 this training will be conducted virtually via Zoom.
X-WR-RELCALID:64f6f3024c7652d19c52a0cfb2558967
X-WR-TIMEZONE:America/New_York
BEGIN:VTIMEZONE
TZID:America/New_York
BEGIN:STANDARD
TZNAME:EST
DTSTART:20201101T020000
TZOFFSETFROM:-0400
TZOFFSETTO:-0500
RDATE:20211107T020000
END:STANDARD
BEGIN:DAYLIGHT
TZNAME:EDT
DTSTART:20210314T020000
TZOFFSETFROM:-0500
TZOFFSETTO:-0400
RDATE:20220313T020000
END:DAYLIGHT
END:VTIMEZONE
BEGIN:VEVENT
UID:640c6c42-5ce8-42d8-a3a5-d4ba32840dfb
DTSTAMP:20260422T013503Z
DESCRIPTION:This training\, facilitated by Pastor Edward Palmer\, will help
  participants identify\, manage\, and mitigate personal biases as well as 
 consider the presence of structural biases within an agency’s policies and
  practices. As participants learn to identify\, address\, and minimize the
  impact of individual bias as well as systemic bias\, the desired outcome 
 is data will eventually be reflective of the agency’s mission. Note that t
 his training will be conducted virtually via Zoom.
DTSTART;TZID=America/New_York:20210429T130000
DTEND;TZID=America/New_York:20210429T160000
LOCATION:https://us02web.zoom.us/meeting/register/tZUscu2trz0iHdf6q7mU-H2bv
 ibgzQt4lZEJ
SUMMARY:Implicit Bias Training
END:VEVENT
END:VCALENDAR
