BEGIN:VCALENDAR
VERSION:2.0
PRODID:-//www.kentuckycasanetwork.org//NONSGML kigkonsult.se iCalcreator 2.
 30.10//
CALSCALE:GREGORIAN
METHOD:PUBLISH
UID:e3299ab9-b171-4602-aba5-6c14fe0d788f
X-WR-CALDESC:On May 1-2\, 2021\, join the Kentucky CASA Network in the Nati
 onal CASA/GAL Association for Children’s nationwide Walk. Run. Thrive. to 
 raise awareness for the important work of CASA programs and volunteers. Th
 rough this virtual event\, participants can walk or run wherever they are 
 and at their own pace while sharing their support for our mission.\n\nInte
 rested individuals should register through the National CASA/GAL website t
 o receive a signature event t-shirt and be part of our nationwide movement
 . This is a great way for CASA and GAL supporters nationwide to show their
  support for the work we do serving children and families.
X-WR-RELCALID:fff78a662c74d9adc912207f4703a6b1
X-WR-TIMEZONE:America/New_York
BEGIN:VTIMEZONE
TZID:America/New_York
BEGIN:STANDARD
TZNAME:EST
DTSTART:20201101T020000
TZOFFSETFROM:-0400
TZOFFSETTO:-0500
RDATE:20211107T020000
END:STANDARD
BEGIN:DAYLIGHT
TZNAME:EDT
DTSTART:20210314T020000
TZOFFSETFROM:-0500
TZOFFSETTO:-0400
RDATE:20220313T020000
END:DAYLIGHT
END:VTIMEZONE
BEGIN:VEVENT
UID:5565a146-8460-4016-8cf0-3276e3221007
DTSTAMP:20260420T111058Z
DESCRIPTION:On May 1-2\, 2021\, join the Kentucky CASA Network in the Natio
 nal CASA/GAL Association for Children’s nationwide Walk. Run. Thrive. to r
 aise awareness for the important work of CASA programs and volunteers. Thr
 ough this virtual event\, participants can walk or run wherever they are a
 nd at their own pace while sharing their support for our mission.\n\nInter
 ested individuals should register through the National CASA/GAL website to
  receive a signature event t-shirt and be part of our nationwide movement.
  This is a great way for CASA and GAL supporters nationwide to show their 
 support for the work we do serving children and families.
DTSTART;TZID=America/New_York:20210501T000000
DTEND;TZID=America/New_York:20210502T235900
LOCATION:https://www.kentuckycasanetwork.org/walk-run-thrive/
SUMMARY:Walk. Run. Thrive.
END:VEVENT
END:VCALENDAR
