BEGIN:VCALENDAR
VERSION:2.0
PRODID:-//www.kentuckycasanetwork.org//NONSGML kigkonsult.se iCalcreator 2.
 30.10//
CALSCALE:GREGORIAN
METHOD:PUBLISH
UID:000f1fff-b5bb-4775-9f5a-ee2bae3903ac
X-WR-CALDESC:
X-WR-RELCALID:b76e05a616d32e9755ac23c565faf773
X-WR-TIMEZONE:America/New_York
BEGIN:VTIMEZONE
TZID:America/New_York
BEGIN:STANDARD
TZNAME:EST
DTSTART:20201101T020000
TZOFFSETFROM:-0400
TZOFFSETTO:-0500
RDATE:20211107T020000
RDATE:20221106T020000
END:STANDARD
BEGIN:DAYLIGHT
TZNAME:EDT
DTSTART:20210314T020000
TZOFFSETFROM:-0500
TZOFFSETTO:-0400
RDATE:20220313T020000
END:DAYLIGHT
END:VTIMEZONE
BEGIN:VEVENT
UID:9797f5ef-dda4-4c41-a15e-7ca610848d61
DTSTAMP:20260424T103505Z
DESCRIPTION:
DTSTART;TZID=America/New_York:20210512T000000
DTEND;TZID=America/New_York:20210512T235900
LOCATION:
SUMMARY:Regional Program Call: Western KY Programs
END:VEVENT
END:VCALENDAR
