BEGIN:VCALENDAR
VERSION:2.0
PRODID:-//www.kentuckycasanetwork.org//NONSGML kigkonsult.se iCalcreator 2.
 30.10//
CALSCALE:GREGORIAN
METHOD:PUBLISH
UID:0d80c852-397f-4969-9858-3f2ba84b4a6d
X-WR-CALDESC:
X-WR-RELCALID:fec47562e1e3a63fb8a39ec1f75db472
X-WR-TIMEZONE:America/New_York
BEGIN:VTIMEZONE
TZID:America/New_York
BEGIN:STANDARD
TZNAME:EST
DTSTART:20201101T020000
TZOFFSETFROM:-0400
TZOFFSETTO:-0500
RDATE:20211107T020000
RDATE:20221106T020000
END:STANDARD
BEGIN:DAYLIGHT
TZNAME:EDT
DTSTART:20210314T020000
TZOFFSETFROM:-0500
TZOFFSETTO:-0400
RDATE:20220313T020000
END:DAYLIGHT
END:VTIMEZONE
BEGIN:VEVENT
UID:b687700e-54e1-40a2-be6c-457b787a3a9c
DTSTAMP:20260422T031258Z
DESCRIPTION:
DTSTART;TZID=America/New_York:20210908T000000
DTEND;TZID=America/New_York:20210908T235900
LOCATION:
SUMMARY:Regional Program Call: Western KY Programs
END:VEVENT
END:VCALENDAR
