BEGIN:VCALENDAR
VERSION:2.0
PRODID:-//www.kentuckycasanetwork.org//NONSGML kigkonsult.se iCalcreator 2.
 30.10//
CALSCALE:GREGORIAN
METHOD:PUBLISH
UID:5e2f47f1-4744-4125-9e3a-8da14b083346
X-WR-CALDESC:
X-WR-RELCALID:cf6d0bb667de58ff1e83d614022e4f3e
X-WR-TIMEZONE:America/New_York
BEGIN:VTIMEZONE
TZID:America/New_York
BEGIN:STANDARD
TZNAME:EST
DTSTART:20221106T020000
TZOFFSETFROM:-0400
TZOFFSETTO:-0500
RDATE:20231105T020000
RDATE:20241103T020000
END:STANDARD
BEGIN:DAYLIGHT
TZNAME:EDT
DTSTART:20230312T020000
TZOFFSETFROM:-0500
TZOFFSETTO:-0400
RDATE:20240310T020000
END:DAYLIGHT
END:VTIMEZONE
BEGIN:VEVENT
UID:4bc4936a-fb6e-4a85-9a9c-0a015cd3a2d6
DTSTAMP:20260424T195053Z
DESCRIPTION:
DTSTART;TZID=America/New_York:20230703T000000
DTEND;TZID=America/New_York:20230704T235900
LOCATION:
SUMMARY:KCN Office Closed - Independence Day
END:VEVENT
END:VCALENDAR
