BEGIN:VCALENDAR
VERSION:2.0
PRODID:-//www.kentuckycasanetwork.org//NONSGML kigkonsult.se iCalcreator 2.
 30.10//
CALSCALE:GREGORIAN
METHOD:PUBLISH
UID:8e654cb2-8e8b-471b-8c6d-452b30db3c8f
X-WR-CALDESC:The purpose of this training is to equip CASA staff with the k
 nowledge and skills necessary to lead the 30-hour volunteer pre-service tr
 aining\, ensuring a high quality training experience and well-equipped vol
 unteers. It is intended for the staff who will be facilitating or co-facil
 itating training\, but staff in other supporting roles are also welcome. T
 he KCN highly recommends new program directors attend even if other staff 
 at their program will be leading training. \n\n<strong>Dates & Times</stro
 ng>\n<ul>\n<li>July 9: 10am-5pm ET</li>\n<li>July 10: 9am-5pm ET</li>\n<li
 >July 11: 9am-2pm ET</li>\n</ul>
X-WR-RELCALID:885202686273c2ef9f9db2e8680aa09b
X-WR-TIMEZONE:America/New_York
BEGIN:VTIMEZONE
TZID:America/New_York
BEGIN:STANDARD
TZNAME:EST
DTSTART:20231105T020000
TZOFFSETFROM:-0400
TZOFFSETTO:-0500
RDATE:20241103T020000
RDATE:20251102T020000
END:STANDARD
BEGIN:DAYLIGHT
TZNAME:EDT
DTSTART:20240310T020000
TZOFFSETFROM:-0500
TZOFFSETTO:-0400
RDATE:20250309T020000
END:DAYLIGHT
END:VTIMEZONE
BEGIN:VEVENT
UID:10cf391a-5dd1-4c70-b385-11ed8e45ba0e
DTSTAMP:20260424T185208Z
DESCRIPTION:The purpose of this training is to equip CASA staff with the kn
 owledge and skills necessary to lead the 30-hour volunteer pre-service tra
 ining\, ensuring a high quality training experience and well-equipped volu
 nteers. It is intended for the staff who will be facilitating or co-facili
 tating training\, but staff in other supporting roles are also welcome. Th
 e KCN highly recommends new program directors attend even if other staff a
 t their program will be leading training. \n\n<strong>Dates & Times</stron
 g>\n<ul>\n<li>July 9: 10am-5pm ET</li>\n<li>July 10: 9am-5pm ET</li>\n<li>
 July 11: 9am-2pm ET</li>\n</ul>
DTSTART;TZID=America/New_York:20240709T100000
DTEND;TZID=America/New_York:20240710T160000
LOCATION:KCN office (Louisville)
SUMMARY:Training of Facilitators
END:VEVENT
END:VCALENDAR
