BEGIN:VCALENDAR
VERSION:2.0
PRODID:-//www.kentuckycasanetwork.org//NONSGML kigkonsult.se iCalcreator 2.
 30.10//
CALSCALE:GREGORIAN
METHOD:PUBLISH
UID:3cccd72e-3e16-490f-8907-83946f584214
X-WR-CALDESC:This training is for Volunteer Coordinator Training cohort #2 
 participants and features guest facilitator Luis Sotelo.
X-WR-RELCALID:b06b9c216476828793698a86163b4189
X-WR-TIMEZONE:America/New_York
BEGIN:VTIMEZONE
TZID:America/New_York
BEGIN:STANDARD
TZNAME:EST
DTSTART:20241103T020000
TZOFFSETFROM:-0400
TZOFFSETTO:-0500
RDATE:20251102T020000
RDATE:20261101T020000
END:STANDARD
BEGIN:DAYLIGHT
TZNAME:EDT
DTSTART:20250309T020000
TZOFFSETFROM:-0500
TZOFFSETTO:-0400
RDATE:20260308T020000
END:DAYLIGHT
END:VTIMEZONE
BEGIN:VEVENT
UID:bb886434-3062-4e29-a5f6-1a86aa1efbbf
DTSTAMP:20260421T080541Z
DESCRIPTION:This training is for Volunteer Coordinator Training cohort #2 p
 articipants and features guest facilitator Luis Sotelo.
DTSTART;TZID=America/New_York:20250612T140000
DTEND;TZID=America/New_York:20250612T160000
LOCATION:Virtual via Zoom
SUMMARY:VC Cohort #2: Becoming an Inclusive Volunteer Coordinator Webinar (
 Part 1)
END:VEVENT
END:VCALENDAR
