BEGIN:VCALENDAR
VERSION:2.0
PRODID:-//www.kentuckycasanetwork.org//NONSGML kigkonsult.se iCalcreator 2.
 30.10//
CALSCALE:GREGORIAN
METHOD:PUBLISH
UID:316bc24f-059a-4df5-8735-dbf5ad97e9f6
X-WR-CALDESC:This webinar series is intended for staff who lead pre-service
  training.
X-WR-RELCALID:63fbeaabb1430a67f8b02aa461abf17e
X-WR-TIMEZONE:America/New_York
BEGIN:VTIMEZONE
TZID:America/New_York
BEGIN:STANDARD
TZNAME:EST
DTSTART:20211107T020000
TZOFFSETFROM:-0400
TZOFFSETTO:-0500
RDATE:20221106T020000
RDATE:20231105T020000
END:STANDARD
BEGIN:DAYLIGHT
TZNAME:EDT
DTSTART:20220313T020000
TZOFFSETFROM:-0500
TZOFFSETTO:-0400
RDATE:20230312T020000
RDATE:20240310T020000
END:DAYLIGHT
END:VTIMEZONE
BEGIN:VEVENT
UID:7c9aacf2-2755-4b97-aeb2-e19052182104
DTSTAMP:20260424T081847Z
DESCRIPTION:This webinar series is intended for staff who lead pre-service 
 training.
DTSTART;TZID=America/New_York:20221013T140000
DTEND;TZID=America/New_York:20221013T153000
LOCATION:https://us02web.zoom.us/meeting/register/tZMpfuGtpjIiGtXoG7DYjFsCD
 ft_uMEIXLBc
SUMMARY:Pre-Service Webinar #2
END:VEVENT
END:VCALENDAR
