BEGIN:VCALENDAR
VERSION:2.0
PRODID:-//www.kentuckycasanetwork.org//NONSGML kigkonsult.se iCalcreator 2.
 30.10//
CALSCALE:GREGORIAN
METHOD:PUBLISH
UID:12344c47-9df3-4810-92b8-d3ed31e9d004
X-WR-CALDESC:KCN's board treasurer training is required for board treasurer
 s who have been in their role for less than a year. KCN offers a virtual o
 ne-hour board treasurer training each spring and fall (same content). The 
 next training is scheduled for April 30th\, 2026\, at 3:00 PM EST/2:00 PM 
 CST.\n\nAlthough the session is geared toward new treasurers\, any board t
 reasurer\, board member\, or staff member is welcome to attend. Topics inc
 lude discussing a treasurer's duties and responsibilities\, financial cont
 rol policies\, audit requirements\, program budgets\, and financial report
 ing.
X-WR-RELCALID:699c3d6eb60a4c7802abbe1d5bc6796f
X-WR-TIMEZONE:America/New_York
BEGIN:VTIMEZONE
TZID:America/New_York
BEGIN:STANDARD
TZNAME:EST
DTSTART:20251102T020000
TZOFFSETFROM:-0400
TZOFFSETTO:-0500
RDATE:20261101T020000
END:STANDARD
BEGIN:DAYLIGHT
TZNAME:EDT
DTSTART:20260308T020000
TZOFFSETFROM:-0500
TZOFFSETTO:-0400
RDATE:20270314T020000
END:DAYLIGHT
END:VTIMEZONE
BEGIN:VEVENT
UID:50821d53-c75f-487c-8ef9-6c4a5972aa91
DTSTAMP:20260424T160050Z
DESCRIPTION:KCN's board treasurer training is required for board treasurers
  who have been in their role for less than a year. KCN offers a virtual on
 e-hour board treasurer training each spring and fall (same content). The n
 ext training is scheduled for April 30th\, 2026\, at 3:00 PM EST/2:00 PM C
 ST.\n\nAlthough the session is geared toward new treasurers\, any board tr
 easurer\, board member\, or staff member is welcome to attend. Topics incl
 ude discussing a treasurer's duties and responsibilities\, financial contr
 ol policies\, audit requirements\, program budgets\, and financial reporti
 ng.
DTSTART;TZID=America/New_York:20260430T150000
DTEND;TZID=America/New_York:20260430T160000
LOCATION:https://us02web.zoom.us/meeting/register/qZ3cPfTNQ5uCa1boHa6tng
SUMMARY:New Board Treasurer Training
END:VEVENT
END:VCALENDAR
