BEGIN:VCALENDAR
VERSION:2.0
PRODID:-//www.kentuckycasanetwork.org//NONSGML kigkonsult.se iCalcreator 2.
 30.10//
CALSCALE:GREGORIAN
METHOD:PUBLISH
UID:8f45ad0c-46a1-47eb-9086-d94f31c18c2d
X-WR-CALDESC:This in-person training is intended for new volunteer coordina
 tors. More information and registration coming soon.
X-WR-RELCALID:a9e5e67a28dc63934f1b83a8b1ad7b10
X-WR-TIMEZONE:America/New_York
BEGIN:VTIMEZONE
TZID:America/New_York
BEGIN:STANDARD
TZNAME:EST
DTSTART:20251102T020000
TZOFFSETFROM:-0400
TZOFFSETTO:-0500
RDATE:20261101T020000
RDATE:20271107T020000
END:STANDARD
BEGIN:DAYLIGHT
TZNAME:EDT
DTSTART:20260308T020000
TZOFFSETFROM:-0500
TZOFFSETTO:-0400
RDATE:20270314T020000
END:DAYLIGHT
END:VTIMEZONE
BEGIN:VEVENT
UID:9b61ecbf-45c4-4976-86e2-e0d56ec34b4d
DTSTAMP:20260424T155938Z
DESCRIPTION:This in-person training is intended for new volunteer coordinat
 ors. More information and registration coming soon.
DTSTART;TZID=America/New_York:20260723T060000
DTEND;TZID=America/New_York:20260723T060001
LOCATION:KCN office (Louisville)
SUMMARY:New Volunteer Coordinator Training
END:VEVENT
END:VCALENDAR
