BEGIN:VCALENDAR
VERSION:2.0
PRODID:-//www.kentuckycasanetwork.org//NONSGML kigkonsult.se iCalcreator 2.
 30.10//
CALSCALE:GREGORIAN
METHOD:PUBLISH
UID:c89e989e-3508-4ed5-82eb-eecfa40c0898
X-WR-CALDESC:This meeting is for new executive directors (within the last 1
 8 months) and will be at the KCN office. More information coming soon.
X-WR-RELCALID:f3fdc72332975c065fbe4e9878849484
X-WR-TIMEZONE:America/New_York
BEGIN:VTIMEZONE
TZID:America/New_York
BEGIN:STANDARD
TZNAME:EST
DTSTART:20251102T020000
TZOFFSETFROM:-0400
TZOFFSETTO:-0500
RDATE:20261101T020000
RDATE:20271107T020000
END:STANDARD
BEGIN:DAYLIGHT
TZNAME:EDT
DTSTART:20260308T020000
TZOFFSETFROM:-0500
TZOFFSETTO:-0400
RDATE:20270314T020000
END:DAYLIGHT
END:VTIMEZONE
BEGIN:VEVENT
UID:a417b9dd-23f6-4b36-b1a6-20024c8f44d9
DTSTAMP:20260424T160257Z
DESCRIPTION:This meeting is for new executive directors (within the last 18
  months) and will be at the KCN office. More information coming soon.
DTSTART;TZID=America/New_York:20260728T060000
DTEND;TZID=America/New_York:20260728T060001
LOCATION:KCN office (Louisville)
SUMMARY:New Executive Director Meeting
END:VEVENT
END:VCALENDAR
