BEGIN:VCALENDAR
VERSION:2.0
PRODID:-//www.kentuckycasanetwork.org//NONSGML kigkonsult.se iCalcreator 2.
 30.10//
CALSCALE:GREGORIAN
METHOD:PUBLISH
UID:868d6c83-42ba-49c5-93bd-ccf23d967858
X-WR-CALDESC:This webinar is intended for new CASA board members to provide
  important information regarding their role on a CASA board of directors. 
 Board members wanting a refresher are also invited to attend.
X-WR-RELCALID:d267342ccb9f438032249292dd3f3ade
X-WR-TIMEZONE:America/New_York
BEGIN:VTIMEZONE
TZID:America/New_York
BEGIN:STANDARD
TZNAME:EST
DTSTART:20251102T020000
TZOFFSETFROM:-0400
TZOFFSETTO:-0500
RDATE:20261101T020000
RDATE:20271107T020000
END:STANDARD
BEGIN:DAYLIGHT
TZNAME:EDT
DTSTART:20260308T020000
TZOFFSETFROM:-0500
TZOFFSETTO:-0400
RDATE:20270314T020000
END:DAYLIGHT
END:VTIMEZONE
BEGIN:VEVENT
UID:8f217400-84e5-4425-bc25-f2f8feca933f
DTSTAMP:20260424T160058Z
DESCRIPTION:This webinar is intended for new CASA board members to provide 
 important information regarding their role on a CASA board of directors. B
 oard members wanting a refresher are also invited to attend.
DTSTART;TZID=America/New_York:20260818T120000
DTEND;TZID=America/New_York:20260818T130000
LOCATION:https://us02web.zoom.us/meeting/register/DNbEnS3jReqVSOkBBLO0ZQ
SUMMARY:CASA Board Membership 101
END:VEVENT
END:VCALENDAR
