BEGIN:VCALENDAR
VERSION:2.0
PRODID:-//www.kentuckycasanetwork.org//NONSGML kigkonsult.se iCalcreator 2.
 30.10//
CALSCALE:GREGORIAN
METHOD:PUBLISH
UID:54df7816-6125-4782-ab67-a4c56e952c8f
X-WR-CALDESC:This will be a day to build connections across the network. Re
 gistration and more information coming soon.
X-WR-RELCALID:7f48eadeb0ece449375d164fc1a62190
X-WR-TIMEZONE:America/New_York
BEGIN:VTIMEZONE
TZID:America/New_York
BEGIN:STANDARD
TZNAME:EST
DTSTART:20251102T020000
TZOFFSETFROM:-0400
TZOFFSETTO:-0500
RDATE:20261101T020000
RDATE:20271107T020000
END:STANDARD
BEGIN:DAYLIGHT
TZNAME:EDT
DTSTART:20260308T020000
TZOFFSETFROM:-0500
TZOFFSETTO:-0400
RDATE:20270314T020000
END:DAYLIGHT
END:VTIMEZONE
BEGIN:VEVENT
UID:da8ad39d-daf8-439e-9491-e818b42e1f2c
DTSTAMP:20260424T155900Z
DESCRIPTION:This will be a day to build connections across the network. Reg
 istration and more information coming soon.
DTSTART;TZID=America/New_York:20260821T060000
DTEND;TZID=America/New_York:20260821T060001
LOCATION:KCN office (Louisville)
SUMMARY:Local Program Staff Retreat
END:VEVENT
END:VCALENDAR
