BEGIN:VCALENDAR
VERSION:2.0
PRODID:-//www.kentuckycasanetwork.org//NONSGML kigkonsult.se iCalcreator 2.
 30.10//
CALSCALE:GREGORIAN
METHOD:PUBLISH
UID:f37163c7-bf4c-4a5a-900b-5eeb3410edd2
X-WR-CALDESC:The purpose of this training is to equip CASA staff with the k
 nowledge and skills necessary to lead the 30-hour volunteer pre-service tr
 aining\, ensuring a high quality training experience and well-equipped vol
 unteers. It is intended for the staff who will be facilitating or co-facil
 itating training\, but staff in other supporting roles are also welcome. T
 he KCN highly recommends new program directors attend even if other staff 
 at their program will be leading training. \n\nRegistration coming soon.
X-WR-RELCALID:542c904089cc39ad080d5e3d55cf5440
X-WR-TIMEZONE:America/New_York
BEGIN:VTIMEZONE
TZID:America/New_York
BEGIN:STANDARD
TZNAME:EST
DTSTART:20251102T020000
TZOFFSETFROM:-0400
TZOFFSETTO:-0500
RDATE:20261101T020000
RDATE:20271107T020000
END:STANDARD
BEGIN:DAYLIGHT
TZNAME:EDT
DTSTART:20260308T020000
TZOFFSETFROM:-0500
TZOFFSETTO:-0400
RDATE:20270314T020000
RDATE:20280312T020000
END:DAYLIGHT
END:VTIMEZONE
BEGIN:VEVENT
UID:415aaee7-9cda-4400-b2cc-5c5b77b55f0e
DTSTAMP:20260424T160226Z
DESCRIPTION:The purpose of this training is to equip CASA staff with the kn
 owledge and skills necessary to lead the 30-hour volunteer pre-service tra
 ining\, ensuring a high quality training experience and well-equipped volu
 nteers. It is intended for the staff who will be facilitating or co-facili
 tating training\, but staff in other supporting roles are also welcome. Th
 e KCN highly recommends new program directors attend even if other staff a
 t their program will be leading training. \n\nRegistration coming soon.
DTSTART;TZID=America/New_York:20260915T100000
DTEND;TZID=America/New_York:20260916T160000
LOCATION:KCN office (Louisville)
SUMMARY:Training of Facilitators
END:VEVENT
END:VCALENDAR
