BEGIN:VCALENDAR
VERSION:2.0
PRODID:-//www.kentuckycasanetwork.org//NONSGML kigkonsult.se iCalcreator 2.
 30.10//
CALSCALE:GREGORIAN
METHOD:PUBLISH
UID:160beba5-ef1b-40ff-9573-eb6325b11e96
X-WR-CALDESC:Topic of interest (TBD) for New and Experienced Board Members.
  Registration and topic coming soon.
X-WR-RELCALID:bf0c6069b98d621b90d5ec59efdac5b9
X-WR-TIMEZONE:America/New_York
BEGIN:VTIMEZONE
TZID:America/New_York
BEGIN:STANDARD
TZNAME:EST
DTSTART:20251102T020000
TZOFFSETFROM:-0400
TZOFFSETTO:-0500
RDATE:20261101T020000
RDATE:20271107T020000
END:STANDARD
BEGIN:DAYLIGHT
TZNAME:EDT
DTSTART:20260308T020000
TZOFFSETFROM:-0500
TZOFFSETTO:-0400
RDATE:20270314T020000
RDATE:20280312T020000
END:DAYLIGHT
END:VTIMEZONE
BEGIN:VEVENT
UID:5309896e-1ace-4435-8dbc-c1f782e7d857
DTSTAMP:20260424T155934Z
DESCRIPTION:Topic of interest (TBD) for New and Experienced Board Members. 
 Registration and topic coming soon.
DTSTART;TZID=America/New_York:20261020T120000
DTEND;TZID=America/New_York:20261020T130000
LOCATION:
SUMMARY:Board Governance Training - Topic TBD
END:VEVENT
END:VCALENDAR
