BEGIN:VCALENDAR
VERSION:2.0
PRODID:-//www.kentuckycasanetwork.org//NONSGML kigkonsult.se iCalcreator 2.
 30.10//
CALSCALE:GREGORIAN
METHOD:PUBLISH
UID:f962d8c2-ed1a-4869-a843-f946c2e3467a
X-WR-CALDESC:Topic of interest (TBD) for New and Experienced Board Members.
  Registration and topic coming soon.
X-WR-RELCALID:a87a8341f0f93a3285076723b019c44c
X-WR-TIMEZONE:America/New_York
BEGIN:VTIMEZONE
TZID:America/New_York
BEGIN:STANDARD
TZNAME:EST
DTSTART:20251102T020000
TZOFFSETFROM:-0400
TZOFFSETTO:-0500
RDATE:20261101T020000
RDATE:20271107T020000
END:STANDARD
BEGIN:DAYLIGHT
TZNAME:EDT
DTSTART:20260308T020000
TZOFFSETFROM:-0500
TZOFFSETTO:-0400
RDATE:20270314T020000
RDATE:20280312T020000
END:DAYLIGHT
END:VTIMEZONE
BEGIN:VEVENT
UID:86c63861-6873-4b26-89a5-bd86a1f35940
DTSTAMP:20260424T155935Z
DESCRIPTION:Topic of interest (TBD) for New and Experienced Board Members. 
 Registration and topic coming soon.
DTSTART;TZID=America/New_York:20261020T183000
DTEND;TZID=America/New_York:20261020T193000
LOCATION:
SUMMARY:Board Governance Training - Topic TBD
END:VEVENT
END:VCALENDAR
