BEGIN:VCALENDAR
VERSION:2.0
PRODID:-//www.kentuckycasanetwork.org//NONSGML kigkonsult.se iCalcreator 2.
 30.10//
CALSCALE:GREGORIAN
METHOD:PUBLISH
UID:f8d9efab-7c39-4a13-b08c-036cbdea4ad2
X-WR-CALDESC:KCN's board treasurer training is required for board treasurer
 s who have been in their role for less than a year. KCN offers a virtual o
 ne-hour board treasurer training each spring and fall (same content). The 
 next training is scheduled for October 29th\, 2026. Registration will be c
 oming soon.\n\nAlthough the session is geared toward new treasurers\, any 
 board treasurer\, board member\, or staff member is welcome to attend. Top
 ics include discussing a treasurer's duties and responsibilities\, financi
 al control policies\, audit requirements\, program budgets\, and financial
  reporting.
X-WR-RELCALID:f257e47c0c81f1f7b3eef8cb3e712665
X-WR-TIMEZONE:America/New_York
BEGIN:VTIMEZONE
TZID:America/New_York
BEGIN:STANDARD
TZNAME:EST
DTSTART:20251102T020000
TZOFFSETFROM:-0400
TZOFFSETTO:-0500
RDATE:20261101T020000
RDATE:20271107T020000
END:STANDARD
BEGIN:DAYLIGHT
TZNAME:EDT
DTSTART:20260308T020000
TZOFFSETFROM:-0500
TZOFFSETTO:-0400
RDATE:20270314T020000
RDATE:20280312T020000
END:DAYLIGHT
END:VTIMEZONE
BEGIN:VEVENT
UID:c94e3b4d-a6a9-4316-92ec-e1e4d2332c11
DTSTAMP:20260424T160057Z
DESCRIPTION:KCN's board treasurer training is required for board treasurers
  who have been in their role for less than a year. KCN offers a virtual on
 e-hour board treasurer training each spring and fall (same content). The n
 ext training is scheduled for October 29th\, 2026. Registration will be co
 ming soon.\n\nAlthough the session is geared toward new treasurers\, any b
 oard treasurer\, board member\, or staff member is welcome to attend. Topi
 cs include discussing a treasurer's duties and responsibilities\, financia
 l control policies\, audit requirements\, program budgets\, and financial 
 reporting.
DTSTART;TZID=America/New_York:20261029T060000
DTEND;TZID=America/New_York:20261029T060001
LOCATION:
SUMMARY:New Board Treasurer Training
END:VEVENT
END:VCALENDAR
