BEGIN:VCALENDAR
VERSION:2.0
PRODID:-//www.kentuckycasanetwork.org//NONSGML kigkonsult.se iCalcreator 2.
 30.10//
CALSCALE:GREGORIAN
METHOD:PUBLISH
UID:895d1c07-77d4-4fb3-a6bd-0a86fd97d659
X-WR-CALDESC:This event is intended for CASA volunteers and will take place
  at the Gheens Foundation Lodge in Louisville. More information and regist
 ration coming soon.
X-WR-RELCALID:4e4906487589c47f57c3bcc3b49e2ab1
X-WR-TIMEZONE:America/New_York
BEGIN:VTIMEZONE
TZID:America/New_York
BEGIN:STANDARD
TZNAME:EST
DTSTART:20261101T020000
TZOFFSETFROM:-0400
TZOFFSETTO:-0500
RDATE:20271107T020000
END:STANDARD
BEGIN:DAYLIGHT
TZNAME:EDT
DTSTART:20260308T020000
TZOFFSETFROM:-0500
TZOFFSETTO:-0400
RDATE:20270314T020000
RDATE:20280312T020000
END:DAYLIGHT
END:VTIMEZONE
BEGIN:VEVENT
UID:49b96a0c-b556-4ed4-b4f1-b137b77e8205
DTSTAMP:20260424T160442Z
DESCRIPTION:This event is intended for CASA volunteers and will take place 
 at the Gheens Foundation Lodge in Louisville. More information and registr
 ation coming soon.
DTSTART;TZID=America/New_York:20261105T060000
DTEND;TZID=America/New_York:20261105T060001
LOCATION:1421 Beckley Creek Pkwy\, Louisville\, KY 40245 US
SUMMARY:Rooted in Advocacy: 2026 CASA Volunteer Symposium
END:VEVENT
END:VCALENDAR
