BEGIN:VCALENDAR
VERSION:2.0
PRODID:-//www.kentuckycasanetwork.org//NONSGML kigkonsult.se iCalcreator 2.
 30.10//
CALSCALE:GREGORIAN
METHOD:PUBLISH
UID:b8bab89f-044c-4724-83bd-bd0a713d6e2a
X-WR-CALDESC:This event for executive directors will be at the KCN office.
X-WR-RELCALID:5a7416bf4be68c07d1cc0e212f97eb77
X-WR-TIMEZONE:America/New_York
BEGIN:VTIMEZONE
TZID:America/New_York
BEGIN:STANDARD
TZNAME:EST
DTSTART:20261101T020000
TZOFFSETFROM:-0400
TZOFFSETTO:-0500
RDATE:20271107T020000
END:STANDARD
BEGIN:DAYLIGHT
TZNAME:EDT
DTSTART:20260308T020000
TZOFFSETFROM:-0500
TZOFFSETTO:-0400
RDATE:20270314T020000
RDATE:20280312T020000
END:DAYLIGHT
END:VTIMEZONE
BEGIN:VEVENT
UID:57aa93f3-f95d-4b7c-bb38-94edc67033fa
DTSTAMP:20260424T155954Z
DESCRIPTION:This event for executive directors will be at the KCN office.
DTSTART;TZID=America/New_York:20261106T060000
DTEND;TZID=America/New_York:20261106T060001
LOCATION:KCN office (Louisville)
SUMMARY:Executive Director Retreat
END:VEVENT
END:VCALENDAR
